BEGIN:VCALENDAR
VERSION:2.0
PRODID:-//Atouts &amp; Compétences - ECPv6.15.18//NONSGML v1.0//EN
CALSCALE:GREGORIAN
METHOD:PUBLISH
X-ORIGINAL-URL:https://atouts-competences.fr
X-WR-CALDESC:Évènements pour Atouts &amp; Compétences
REFRESH-INTERVAL;VALUE=DURATION:PT1H
X-Robots-Tag:noindex
X-PUBLISHED-TTL:PT1H
BEGIN:VTIMEZONE
TZID:Europe/Paris
BEGIN:DAYLIGHT
TZOFFSETFROM:+0100
TZOFFSETTO:+0200
TZNAME:CEST
DTSTART:20250330T010000
END:DAYLIGHT
BEGIN:STANDARD
TZOFFSETFROM:+0200
TZOFFSETTO:+0100
TZNAME:CET
DTSTART:20251026T010000
END:STANDARD
BEGIN:DAYLIGHT
TZOFFSETFROM:+0100
TZOFFSETTO:+0200
TZNAME:CEST
DTSTART:20260329T010000
END:DAYLIGHT
BEGIN:STANDARD
TZOFFSETFROM:+0200
TZOFFSETTO:+0100
TZNAME:CET
DTSTART:20261025T010000
END:STANDARD
BEGIN:DAYLIGHT
TZOFFSETFROM:+0100
TZOFFSETTO:+0200
TZNAME:CEST
DTSTART:20270328T010000
END:DAYLIGHT
BEGIN:STANDARD
TZOFFSETFROM:+0200
TZOFFSETTO:+0100
TZNAME:CET
DTSTART:20271031T010000
END:STANDARD
END:VTIMEZONE
BEGIN:VEVENT
DTSTART;VALUE=DATE:20260602
DTEND;VALUE=DATE:20260603
DTSTAMP:20260420T114201
CREATED:20260302T153303Z
LAST-MODIFIED:20260303T130153Z
UID:1839-1780358400-1780444799@atouts-competences.fr
SUMMARY:Formation Excel Perfectionnement
DESCRIPTION:Inscription → lien d’inscription \n  \nOBJECTIFS DE LA FORMATION\n• Approfondir l’utilisation des tris\, filtres et mises en forme conditionnelles\n• Créer et personnaliser des graphiques pour représenter les données\n• Exploiter des tableaux complexes en extrayant et croisant les informations\n• Utiliser des fonctions complémentaires et des outils de gestion de données avancés
URL:https://atouts-competences.fr/event/formation-excel-perfectionnement-2/
LOCATION:En Distanciel
CATEGORIES:Bureautique
END:VEVENT
BEGIN:VEVENT
DTSTART;VALUE=DATE:20260610
DTEND;VALUE=DATE:20260611
DTSTAMP:20260420T114201
CREATED:20260302T153341Z
LAST-MODIFIED:20260303T130217Z
UID:1841-1781049600-1781135999@atouts-competences.fr
SUMMARY:Formation Excel Perfectionnement
DESCRIPTION:Inscription → lien d’inscription \n  \nOBJECTIFS DE LA FORMATION\n• Approfondir l’utilisation des tris\, filtres et mises en forme conditionnelles\n• Créer et personnaliser des graphiques pour représenter les données\n• Exploiter des tableaux complexes en extrayant et croisant les informations\n• Utiliser des fonctions complémentaires et des outils de gestion de données avancés
URL:https://atouts-competences.fr/event/formation-excel-perfectionnement-3/
LOCATION:En Distanciel
CATEGORIES:Bureautique
END:VEVENT
BEGIN:VEVENT
DTSTART;VALUE=DATE:20260616
DTEND;VALUE=DATE:20260617
DTSTAMP:20260420T114201
CREATED:20260302T153415Z
LAST-MODIFIED:20260303T130510Z
UID:1843-1781568000-1781654399@atouts-competences.fr
SUMMARY:Formation Excel Perfectionnement
DESCRIPTION:Inscription → lien d’inscription \n  \nOBJECTIFS DE LA FORMATION\n• Approfondir l’utilisation des tris\, filtres et mises en forme conditionnelles\n• Créer et personnaliser des graphiques pour représenter les données\n• Exploiter des tableaux complexes en extrayant et croisant les informations\n• Utiliser des fonctions complémentaires et des outils de gestion de données avancés
URL:https://atouts-competences.fr/event/formation-excel-perfectionnement-4/
LOCATION:En Distanciel
CATEGORIES:Bureautique
END:VEVENT
END:VCALENDAR